BEGIN:VCALENDAR
VERSION:2.0
PRODID:-//hacksw/handcal//NONSGML v1.0//EN
CALSCALE:GREGORIAN
BEGIN:VEVENT
DTSTART:20220403T100000Z
DTEND:20220403T110000Z
UID:e24764
DTSTAMP:20260420T045905Z
LOCATION:Nella and Leon Benoziyo Building for Biological Sciences
DESCRIPTION:Poachers\, Mammals and Birds The Endless Story
SUMMARY:Poachers\, Mammals and Birds The Endless Story
END:VEVENT
END:VCALENDAR