BEGIN:VCALENDAR
VERSION:2.0
PRODID:-//hacksw/handcal//NONSGML v1.0//EN
CALSCALE:GREGORIAN
BEGIN:VEVENT
DTSTART:20220315T060000Z
DTEND:20220315T073000Z
UID:e24772
DTSTAMP:20260421T114654Z
LOCATION:Max and Lillian Candiotty Building
DESCRIPTION:Stem Cells\, Regeneration and Aging Seminar
SUMMARY:Stem Cells\, Regeneration and Aging Seminar
END:VEVENT
END:VCALENDAR