BEGIN:VCALENDAR
VERSION:2.0
PRODID:-//hacksw/handcal//NONSGML v1.0//EN
CALSCALE:GREGORIAN
BEGIN:VEVENT
DTSTART:19691231T160000Z
DTEND:19691231T160000Z
UID:e24782
DTSTAMP:20260423T053237Z
LOCATION:The David Lopatie Conference Centre
DESCRIPTION:Executive Board and committee meetings 2024
SUMMARY:Executive Board and committee meetings 2024
END:VEVENT
END:VCALENDAR