BEGIN:VCALENDAR
VERSION:2.0
PRODID:-//hacksw/handcal//NONSGML v1.0//EN
CALSCALE:GREGORIAN
BEGIN:VEVENT
DTSTART:19691231T160000Z
DTEND:19691231T160000Z
UID:e24786
DTSTAMP:20260423T044652Z
LOCATION:The David Lopatie Conference Centre
DESCRIPTION:SAAC Meeting 2023 1/2
SUMMARY:SAAC Meeting 2023 1/2
END:VEVENT
END:VCALENDAR