BEGIN:VCALENDAR
VERSION:2.0
PRODID:-//hacksw/handcal//NONSGML v1.0//EN
CALSCALE:GREGORIAN
BEGIN:VEVENT
DTSTART:20220308T070000Z
DTEND:20220308T080000Z
UID:e24794
DTSTAMP:20260419T134321Z
LOCATION:Perlman Chemical Sciences Building
DESCRIPTION:M.Sc thesis defense: "Data-Driven Force Fields for Large Scale Molecular  Dynamics Simulations of Halide Perovskites"
SUMMARY:M.Sc thesis defense: "Data-Driven Force Fields for Large Scale Molecular  Dynamics Simulations of Halide Perovskites"
END:VEVENT
END:VCALENDAR