BEGIN:VCALENDAR
VERSION:2.0
PRODID:-//hacksw/handcal//NONSGML v1.0//EN
CALSCALE:GREGORIAN
BEGIN:VEVENT
DTSTART:20220314T070000Z
DTEND:20220314T080000Z
UID:e24808
DTSTAMP:20260420T085617Z
LOCATION:
DESCRIPTION:Ph.D thesis defense: Zoom: "Polymer beads as interfacial obstacles in fibre-reinforced composites"
SUMMARY:Ph.D thesis defense: Zoom: "Polymer beads as interfacial obstacles in fibre-reinforced composites"
END:VEVENT
END:VCALENDAR