BEGIN:VCALENDAR
VERSION:2.0
PRODID:-//hacksw/handcal//NONSGML v1.0//EN
CALSCALE:GREGORIAN
BEGIN:VEVENT
DTSTART:20220313T070000Z
DTEND:20220313T080000Z
UID:e24814
DTSTAMP:20260420T194139Z
LOCATION:Gerhard M.J. Schmidt Lecture Hall
DESCRIPTION:Cracking the olfactory code using behavior
SUMMARY:Cracking the olfactory code using behavior
END:VEVENT
END:VCALENDAR