BEGIN:VCALENDAR
VERSION:2.0
PRODID:-//hacksw/handcal//NONSGML v1.0//EN
CALSCALE:GREGORIAN
BEGIN:VEVENT
DTSTART:20220502T120000Z
DTEND:20220502T130000Z
UID:e24816
DTSTAMP:20260420T085609Z
LOCATION:
DESCRIPTION:Growing structural proteins into advanced materials for food security
SUMMARY:Growing structural proteins into advanced materials for food security
END:VEVENT
END:VCALENDAR