BEGIN:VCALENDAR
VERSION:2.0
PRODID:-//hacksw/handcal//NONSGML v1.0//EN
CALSCALE:GREGORIAN
BEGIN:VEVENT
DTSTART:19691231T160000Z
DTEND:19691231T160000Z
UID:e24818
DTSTAMP:20260420T091602Z
LOCATION:Max and Lillian Candiotty Building
DESCRIPTION:Tissue level insights from cellular measurements –  Identifying multi-cellular hubs in colorectal cancer
SUMMARY:Tissue level insights from cellular measurements –  Identifying multi-cellular hubs in colorectal cancer
END:VEVENT
END:VCALENDAR