BEGIN:VCALENDAR
VERSION:2.0
PRODID:-//hacksw/handcal//NONSGML v1.0//EN
CALSCALE:GREGORIAN
BEGIN:VEVENT
DTSTART:20220310T083000Z
DTEND:20220310T093000Z
UID:e24820
DTSTAMP:20260421T051433Z
LOCATION:Nella and Leon Benoziyo Building for Biological Sciences
DESCRIPTION:Jerusalem's Elite during the 7th century BCE : A Macro and  Micro view from Giv'ati Parking Lot Excavations
SUMMARY:Jerusalem's Elite during the 7th century BCE : A Macro and  Micro view from Giv'ati Parking Lot Excavations
END:VEVENT
END:VCALENDAR