BEGIN:VCALENDAR
VERSION:2.0
PRODID:-//hacksw/handcal//NONSGML v1.0//EN
CALSCALE:GREGORIAN
BEGIN:VEVENT
DTSTART:20220320T080000Z
DTEND:20220320T093000Z
UID:e24830
DTSTAMP:20260421T114655Z
LOCATION:
DESCRIPTION:PhD defense seminar by Martino Maddalena (Moshe Oren Lab)
SUMMARY:PhD defense seminar by Martino Maddalena (Moshe Oren Lab)
END:VEVENT
END:VCALENDAR