BEGIN:VCALENDAR
VERSION:2.0
PRODID:-//hacksw/handcal//NONSGML v1.0//EN
CALSCALE:GREGORIAN
BEGIN:VEVENT
DTSTART:20220414T120000Z
DTEND:20220414T140000Z
UID:e24842
DTSTAMP:20260419T185625Z
LOCATION:The David Lopatie Conference Centre
DESCRIPTION:60th Weizmann Memorial Lecture (2022) - 2nd lecture
SUMMARY:60th Weizmann Memorial Lecture (2022) - 2nd lecture
END:VEVENT
END:VCALENDAR