BEGIN:VCALENDAR
VERSION:2.0
PRODID:-//hacksw/handcal//NONSGML v1.0//EN
CALSCALE:GREGORIAN
BEGIN:VEVENT
DTSTART:20220324T130000Z
DTEND:20220324T130000Z
UID:e24846
DTSTAMP:20260420T155037Z
LOCATION:
DESCRIPTION:The impact of metabolic processes at the brain’s choroid plexus and of the gut microbiome on Alzheimer’s disease manifestation
SUMMARY:The impact of metabolic processes at the brain’s choroid plexus and of the gut microbiome on Alzheimer’s disease manifestation
END:VEVENT
END:VCALENDAR