BEGIN:VCALENDAR
VERSION:2.0
PRODID:-//hacksw/handcal//NONSGML v1.0//EN
CALSCALE:GREGORIAN
BEGIN:VEVENT
DTSTART:20220329T050000Z
DTEND:20220331T050000Z
UID:e24848
DTSTAMP:20260420T050020Z
LOCATION:
DESCRIPTION:The links between Plant Hydraulics and Ecosystem Hydrology
SUMMARY:The links between Plant Hydraulics and Ecosystem Hydrology
END:VEVENT
END:VCALENDAR