BEGIN:VCALENDAR
VERSION:2.0
PRODID:-//hacksw/handcal//NONSGML v1.0//EN
CALSCALE:GREGORIAN
BEGIN:VEVENT
DTSTART:20220410T110000Z
DTEND:20220410T120000Z
UID:e24866
DTSTAMP:20260420T034116Z
LOCATION:Max and Lillian Candiotty Building
DESCRIPTION:Insights on hypermutation in cancer initiation and response to immunotherapy. Lessons from a rare cancer syndrome
SUMMARY:Insights on hypermutation in cancer initiation and response to immunotherapy. Lessons from a rare cancer syndrome
END:VEVENT
END:VCALENDAR