BEGIN:VCALENDAR
VERSION:2.0
PRODID:-//hacksw/handcal//NONSGML v1.0//EN
CALSCALE:GREGORIAN
BEGIN:VEVENT
DTSTART:20220503T080000Z
DTEND:20220503T080000Z
UID:e24890
DTSTAMP:20260420T050125Z
LOCATION:
DESCRIPTION:TBA
SUMMARY:TBA
END:VEVENT
END:VCALENDAR