BEGIN:VCALENDAR
VERSION:2.0
PRODID:-//hacksw/handcal//NONSGML v1.0//EN
CALSCALE:GREGORIAN
BEGIN:VEVENT
DTSTART:20220428T110000Z
DTEND:20220428T120000Z
UID:e24916
DTSTAMP:20260420T050057Z
LOCATION:
DESCRIPTION:Killing Cancer Stem Cells
SUMMARY:Killing Cancer Stem Cells
END:VEVENT
END:VCALENDAR