BEGIN:VCALENDAR
VERSION:2.0
PRODID:-//hacksw/handcal//NONSGML v1.0//EN
CALSCALE:GREGORIAN
BEGIN:VEVENT
DTSTART:20220412T080000Z
DTEND:20220412T100000Z
UID:e24932
DTSTAMP:20260421T085117Z
LOCATION:Perlman Chemical Sciences Building
DESCRIPTION:Ph.D thesis: “Structure and properties of naturally occurring materials from first principles.”
SUMMARY:Ph.D thesis: “Structure and properties of naturally occurring materials from first principles.”
END:VEVENT
END:VCALENDAR