BEGIN:VCALENDAR
VERSION:2.0
PRODID:-//hacksw/handcal//NONSGML v1.0//EN
CALSCALE:GREGORIAN
BEGIN:VEVENT
DTSTART:20220426T080000Z
DTEND:20220426T090000Z
UID:e24948
DTSTAMP:20260420T120007Z
LOCATION:Gerhard M.J. Schmidt Lecture Hall
DESCRIPTION:Self-assembling structure and function using equilibrium and non-equilibrium statistical mechanics
SUMMARY:Self-assembling structure and function using equilibrium and non-equilibrium statistical mechanics
END:VEVENT
END:VCALENDAR