BEGIN:VCALENDAR
VERSION:2.0
PRODID:-//hacksw/handcal//NONSGML v1.0//EN
CALSCALE:GREGORIAN
BEGIN:VEVENT
DTSTART:20220626T110000Z
DTEND:20220626T120000Z
UID:e24962
DTSTAMP:20260419T140647Z
LOCATION:Max and Lillian Candiotty Building
DESCRIPTION:Vaccination against experimentally-induced shared neoantigens
SUMMARY:Vaccination against experimentally-induced shared neoantigens
END:VEVENT
END:VCALENDAR