BEGIN:VCALENDAR
VERSION:2.0
PRODID:-//hacksw/handcal//NONSGML v1.0//EN
CALSCALE:GREGORIAN
BEGIN:VEVENT
DTSTART:20220428T080000Z
DTEND:20220428T090000Z
UID:e24964
DTSTAMP:20260420T122235Z
LOCATION:Perlman Chemical Sciences Building
DESCRIPTION:“Spin-orbit coupling and Kondo resonance in Co adatom on Cu(100) surface: DFT+ED study”
SUMMARY:“Spin-orbit coupling and Kondo resonance in Co adatom on Cu(100) surface: DFT+ED study”
END:VEVENT
END:VCALENDAR