BEGIN:VCALENDAR
VERSION:2.0
PRODID:-//hacksw/handcal//NONSGML v1.0//EN
CALSCALE:GREGORIAN
BEGIN:VEVENT
DTSTART:20220524T070000Z
DTEND:20220524T080000Z
UID:e24970
DTSTAMP:20260419T101557Z
LOCATION:Nella and Leon Benoziyo Building for Biological Sciences
DESCRIPTION:Mitochondrial behavior 
SUMMARY:Mitochondrial behavior 
END:VEVENT
END:VCALENDAR