BEGIN:VCALENDAR
VERSION:2.0
PRODID:-//hacksw/handcal//NONSGML v1.0//EN
CALSCALE:GREGORIAN
BEGIN:VEVENT
DTSTART:20220522T080000Z
DTEND:20220522T090000Z
UID:e24976
DTSTAMP:20260419T101602Z
LOCATION:Nella and Leon Benoziyo Building for Biological Sciences
DESCRIPTION:The cap-binding protein\, 4EHP/eIF4E2 mediates miRNA suppression of mRNA translation.
SUMMARY:The cap-binding protein\, 4EHP/eIF4E2 mediates miRNA suppression of mRNA translation.
END:VEVENT
END:VCALENDAR