BEGIN:VCALENDAR
VERSION:2.0
PRODID:-//hacksw/handcal//NONSGML v1.0//EN
CALSCALE:GREGORIAN
BEGIN:VEVENT
DTSTART:20220427T093000Z
DTEND:20220427T103000Z
UID:e24984
DTSTAMP:20260419T231624Z
LOCATION:Gerhard M.J. Schmidt Lecture Hall
DESCRIPTION:Representation of 3D space in the mammalian brain:From 3D grid cells in flying bats to 3D perception in flying humans
SUMMARY:Representation of 3D space in the mammalian brain:From 3D grid cells in flying bats to 3D perception in flying humans
END:VEVENT
END:VCALENDAR