BEGIN:VCALENDAR
VERSION:2.0
PRODID:-//hacksw/handcal//NONSGML v1.0//EN
CALSCALE:GREGORIAN
BEGIN:VEVENT
DTSTART:20220511T110000Z
DTEND:20220511T120000Z
UID:e24996
DTSTAMP:20260420T194144Z
LOCATION:
DESCRIPTION:Seminar for Thesis Defense
SUMMARY:Seminar for Thesis Defense
END:VEVENT
END:VCALENDAR