BEGIN:VCALENDAR
VERSION:2.0
PRODID:-//hacksw/handcal//NONSGML v1.0//EN
CALSCALE:GREGORIAN
BEGIN:VEVENT
DTSTART:20220508T100000Z
DTEND:20220508T110000Z
UID:e25020
DTSTAMP:20260420T034228Z
LOCATION:Arthur and Rochelle Belfer Building for Biomedical Research
DESCRIPTION:Molecular Genetics Departmental seminar
SUMMARY:Molecular Genetics Departmental seminar
END:VEVENT
END:VCALENDAR