BEGIN:VCALENDAR
VERSION:2.0
PRODID:-//hacksw/handcal//NONSGML v1.0//EN
CALSCALE:GREGORIAN
BEGIN:VEVENT
DTSTART:20220620T080000Z
DTEND:20220620T090000Z
UID:e25030
DTSTAMP:20260419T193520Z
LOCATION:Gerhard M.J. Schmidt Lecture Hall
DESCRIPTION:Coupled Colloidal Quantum Dot Molecules
SUMMARY:Coupled Colloidal Quantum Dot Molecules
END:VEVENT
END:VCALENDAR