BEGIN:VCALENDAR
VERSION:2.0
PRODID:-//hacksw/handcal//NONSGML v1.0//EN
CALSCALE:GREGORIAN
BEGIN:VEVENT
DTSTART:20220526T080000Z
DTEND:20220526T090000Z
UID:e25076
DTSTAMP:20260419T101557Z
LOCATION:Perlman Chemical Sciences Building
DESCRIPTION:“Modeling Photo and Bias Induced Electron transfer and transport. An ab-initio perspective on kinetics”
SUMMARY:“Modeling Photo and Bias Induced Electron transfer and transport. An ab-initio perspective on kinetics”
END:VEVENT
END:VCALENDAR