BEGIN:VCALENDAR
VERSION:2.0
PRODID:-//hacksw/handcal//NONSGML v1.0//EN
CALSCALE:GREGORIAN
BEGIN:VEVENT
DTSTART:20220525T101500Z
DTEND:20220525T101500Z
UID:e25078
DTSTAMP:20260419T101554Z
LOCATION:Arthur and Rochelle Belfer Building for Biomedical Research
DESCRIPTION:Special guest semianr with Prof. Jin Billy Li
SUMMARY:Special guest semianr with Prof. Jin Billy Li
END:VEVENT
END:VCALENDAR