BEGIN:VCALENDAR
VERSION:2.0
PRODID:-//hacksw/handcal//NONSGML v1.0//EN
CALSCALE:GREGORIAN
BEGIN:VEVENT
DTSTART:20220607T110000Z
DTEND:20220607T120000Z
UID:e25082
DTSTAMP:20260420T194248Z
LOCATION:Gerhard M.J. Schmidt Lecture Hall
DESCRIPTION:On discovery and sensitivity in (photo)catalysis
SUMMARY:On discovery and sensitivity in (photo)catalysis
END:VEVENT
END:VCALENDAR