BEGIN:VCALENDAR
VERSION:2.0
PRODID:-//hacksw/handcal//NONSGML v1.0//EN
CALSCALE:GREGORIAN
BEGIN:VEVENT
DTSTART:19691231T160000Z
DTEND:19691231T160000Z
UID:e25086
DTSTAMP:20260419T101553Z
LOCATION:
DESCRIPTION:Israel Physics Colloquium
SUMMARY:Israel Physics Colloquium
END:VEVENT
END:VCALENDAR