BEGIN:VCALENDAR
VERSION:2.0
PRODID:-//hacksw/handcal//NONSGML v1.0//EN
CALSCALE:GREGORIAN
BEGIN:VEVENT
DTSTART:19691231T160000Z
DTEND:19691231T160000Z
UID:e25090
DTSTAMP:20260419T101554Z
LOCATION:Dolfi and Lola Ebner Auditorium
DESCRIPTION:THEORY AVANT GARDE\, A Workshop in Honor of Moni Naor
SUMMARY:THEORY AVANT GARDE\, A Workshop in Honor of Moni Naor
END:VEVENT
END:VCALENDAR