BEGIN:VCALENDAR
VERSION:2.0
PRODID:-//hacksw/handcal//NONSGML v1.0//EN
CALSCALE:GREGORIAN
BEGIN:VEVENT
DTSTART:20220628T070000Z
DTEND:20220628T080000Z
UID:e25106
DTSTAMP:20260419T140648Z
LOCATION:Nella and Leon Benoziyo Building for Biological Sciences
DESCRIPTION:To be announced
SUMMARY:To be announced
END:VEVENT
END:VCALENDAR