BEGIN:VCALENDAR
VERSION:2.0
PRODID:-//hacksw/handcal//NONSGML v1.0//EN
CALSCALE:GREGORIAN
BEGIN:VEVENT
DTSTART:20220601T070000Z
DTEND:20220601T080000Z
UID:e25108
DTSTAMP:20260420T050040Z
LOCATION:Nella and Leon Benoziyo Building for Biological Sciences
DESCRIPTION:A deep learning solution to the computational grand challenge problem of protein folding 
SUMMARY:A deep learning solution to the computational grand challenge problem of protein folding 
END:VEVENT
END:VCALENDAR