BEGIN:VCALENDAR
VERSION:2.0
PRODID:-//hacksw/handcal//NONSGML v1.0//EN
CALSCALE:GREGORIAN
BEGIN:VEVENT
DTSTART:20220606T103000Z
DTEND:20220606T123000Z
UID:e25142
DTSTAMP:20260419T185613Z
LOCATION:Gerhard M.J. Schmidt Lecture Hall
DESCRIPTION:Architecture and function of small neuronal networks
SUMMARY:Architecture and function of small neuronal networks
END:VEVENT
END:VCALENDAR