BEGIN:VCALENDAR
VERSION:2.0
PRODID:-//hacksw/handcal//NONSGML v1.0//EN
CALSCALE:GREGORIAN
BEGIN:VEVENT
DTSTART:20220628T120000Z
DTEND:20220628T130000Z
UID:e25188
DTSTAMP:20260419T193515Z
LOCATION:
DESCRIPTION:Genetic Factors & Long Range Circuit Dynamics Underlying Memory Processing-ZOOM
SUMMARY:Genetic Factors & Long Range Circuit Dynamics Underlying Memory Processing-ZOOM
END:VEVENT
END:VCALENDAR