BEGIN:VCALENDAR
VERSION:2.0
PRODID:-//hacksw/handcal//NONSGML v1.0//EN
CALSCALE:GREGORIAN
BEGIN:VEVENT
DTSTART:20220628T110000Z
DTEND:20220628T120000Z
UID:e25202
DTSTAMP:20260421T085032Z
LOCATION:Gerhard M.J. Schmidt Lecture Hall
DESCRIPTION:New methods to extract knowledge on epistasis from experimental evolutionary landscapes
SUMMARY:New methods to extract knowledge on epistasis from experimental evolutionary landscapes
END:VEVENT
END:VCALENDAR