BEGIN:VCALENDAR
VERSION:2.0
PRODID:-//hacksw/handcal//NONSGML v1.0//EN
CALSCALE:GREGORIAN
BEGIN:VEVENT
DTSTART:20221030T050000Z
DTEND:20221030T050000Z
UID:e25312
DTSTAMP:20260419T140653Z
LOCATION:
DESCRIPTION:Pre-SAAC symposium on soft matter and biophysics
SUMMARY:Pre-SAAC symposium on soft matter and biophysics
END:VEVENT
END:VCALENDAR