BEGIN:VCALENDAR
VERSION:2.0
PRODID:-//hacksw/handcal//NONSGML v1.0//EN
CALSCALE:GREGORIAN
BEGIN:VEVENT
DTSTART:20221227T060000Z
DTEND:20221227T070000Z
UID:e25316
DTSTAMP:20260421T060039Z
LOCATION:Max and Lillian Candiotty Building
DESCRIPTION:iSCAR seminar
SUMMARY:iSCAR seminar
END:VEVENT
END:VCALENDAR