BEGIN:VCALENDAR
VERSION:2.0
PRODID:-//hacksw/handcal//NONSGML v1.0//EN
CALSCALE:GREGORIAN
BEGIN:VEVENT
DTSTART:20230529T080000Z
DTEND:20230529T091500Z
UID:e25368
DTSTAMP:20260422T041742Z
LOCATION:Gerhard M.J. Schmidt Lecture Hall
DESCRIPTION:Solar Panels for Light-to-Chemical Conversion
SUMMARY:Solar Panels for Light-to-Chemical Conversion
END:VEVENT
END:VCALENDAR