BEGIN:VCALENDAR
VERSION:2.0
PRODID:-//hacksw/handcal//NONSGML v1.0//EN
CALSCALE:GREGORIAN
BEGIN:VEVENT
DTSTART:20230116T080000Z
DTEND:20230116T091500Z
UID:e25428
DTSTAMP:20260419T231728Z
LOCATION:Gerhard M.J. Schmidt Lecture Hall
DESCRIPTION:Harnessing Coulombic Forces to Guide Colloidal Self-Assembly
SUMMARY:Harnessing Coulombic Forces to Guide Colloidal Self-Assembly
END:VEVENT
END:VCALENDAR