BEGIN:VCALENDAR
VERSION:2.0
PRODID:-//hacksw/handcal//NONSGML v1.0//EN
CALSCALE:GREGORIAN
BEGIN:VEVENT
DTSTART:20221129T060000Z
DTEND:20221129T070000Z
UID:e25460
DTSTAMP:20260419T182227Z
LOCATION:Max and Lillian Candiotty Building
DESCRIPTION:iSCAR seminar
SUMMARY:iSCAR seminar
END:VEVENT
END:VCALENDAR