BEGIN:VCALENDAR
VERSION:2.0
PRODID:-//hacksw/handcal//NONSGML v1.0//EN
CALSCALE:GREGORIAN
BEGIN:VEVENT
DTSTART:20221023T113000Z
DTEND:20221023T150000Z
UID:e25496
DTSTAMP:20260419T185523Z
LOCATION:Dolfi and Lola Ebner Auditorium
DESCRIPTION:Pre-SAAC Symposium
SUMMARY:Pre-SAAC Symposium
END:VEVENT
END:VCALENDAR