BEGIN:VCALENDAR
VERSION:2.0
PRODID:-//hacksw/handcal//NONSGML v1.0//EN
CALSCALE:GREGORIAN
BEGIN:VEVENT
DTSTART:20230424T080000Z
DTEND:20230424T091500Z
UID:e25504
DTSTAMP:20260420T194135Z
LOCATION:Gerhard M.J. Schmidt Lecture Hall
DESCRIPTION:Artificial Metalloenzymes for in vivo Catalysis: Challenges and Opportunities
SUMMARY:Artificial Metalloenzymes for in vivo Catalysis: Challenges and Opportunities
END:VEVENT
END:VCALENDAR