BEGIN:VCALENDAR
VERSION:2.0
PRODID:-//hacksw/handcal//NONSGML v1.0//EN
CALSCALE:GREGORIAN
BEGIN:VEVENT
DTSTART:20221106T110000Z
DTEND:20221106T120000Z
UID:e25548
DTSTAMP:20260421T085119Z
LOCATION:
DESCRIPTION:Zoom only: VISCOSITY OF DILUTE ELECTROLYTE SOLUTIONS
SUMMARY:Zoom only: VISCOSITY OF DILUTE ELECTROLYTE SOLUTIONS
END:VEVENT
END:VCALENDAR