BEGIN:VCALENDAR
VERSION:2.0
PRODID:-//hacksw/handcal//NONSGML v1.0//EN
CALSCALE:GREGORIAN
BEGIN:VEVENT
DTSTART:20221130T110000Z
DTEND:20221130T120000Z
UID:e25630
DTSTAMP:20260419T182212Z
LOCATION:Gerhard M.J. Schmidt Lecture Hall
DESCRIPTION:Chemical Biology Avenues to Illuminate Chromatin Modifications and Protein-protein Interactions
SUMMARY:Chemical Biology Avenues to Illuminate Chromatin Modifications and Protein-protein Interactions
END:VEVENT
END:VCALENDAR