BEGIN:VCALENDAR
VERSION:2.0
PRODID:-//hacksw/handcal//NONSGML v1.0//EN
CALSCALE:GREGORIAN
BEGIN:VEVENT
DTSTART:20221129T093000Z
DTEND:20221129T093000Z
UID:e25676
DTSTAMP:20260419T182202Z
LOCATION:Gerhard M.J. Schmidt Lecture Hall
DESCRIPTION:Organization of long-term behavior and individuality  across developmental timescales
SUMMARY:Organization of long-term behavior and individuality  across developmental timescales
END:VEVENT
END:VCALENDAR