BEGIN:VCALENDAR
VERSION:2.0
PRODID:-//hacksw/handcal//NONSGML v1.0//EN
CALSCALE:GREGORIAN
BEGIN:VEVENT
DTSTART:20230308T110000Z
DTEND:20230308T120000Z
UID:e25702
DTSTAMP:20260421T002014Z
LOCATION:
DESCRIPTION:Circulating tumor cells
SUMMARY:Circulating tumor cells
END:VEVENT
END:VCALENDAR