BEGIN:VCALENDAR
VERSION:2.0
PRODID:-//hacksw/handcal//NONSGML v1.0//EN
CALSCALE:GREGORIAN
BEGIN:VEVENT
DTSTART:20230315T060000Z
DTEND:20230315T130000Z
UID:e25714
DTSTAMP:20260421T213510Z
LOCATION:The David Lopatie Conference Centre
DESCRIPTION:International Day of Women in Science Conference
SUMMARY:International Day of Women in Science Conference
END:VEVENT
END:VCALENDAR