BEGIN:VCALENDAR
VERSION:2.0
PRODID:-//hacksw/handcal//NONSGML v1.0//EN
CALSCALE:GREGORIAN
BEGIN:VEVENT
DTSTART:19691231T160000Z
DTEND:19691231T160000Z
UID:e25740
DTSTAMP:20260419T185533Z
LOCATION:
DESCRIPTION:Winter STAR workshop 2023
SUMMARY:Winter STAR workshop 2023
END:VEVENT
END:VCALENDAR